BEGIN:VCALENDAR
PRODID:-//eluceo/ical//2.0/EN
VERSION:2.0
CALSCALE:GREGORIAN
BEGIN:VEVENT
UID:acadb07bfe461081bade92751b7367bd
DTSTAMP:20260422T180857Z
SUMMARY:Lunch
DESCRIPTION:
URL:https://basel-am-rhein.rotary1980.ch/bs/agenda/show/166646
DTSTART;TZID=Europe/Zurich:20240514T121500
DTEND;TZID=Europe/Zurich:20240514T121500
LOCATION:Restaurant Safran Zunft\, Gerbergasse 11\, 4001 Basel
CATEGORIES:Rotary
END:VEVENT
BEGIN:VTIMEZONE
TZID:Europe/Zurich
BEGIN:DAYLIGHT
DTSTART:20240514T121500
TZNAME:CEST
TZOFFSETTO:+0200
TZOFFSETFROM:+0200
END:DAYLIGHT
END:VTIMEZONE
END:VCALENDAR
