BEGIN:VCALENDAR
PRODID:-//eluceo/ical//2.0/EN
VERSION:2.0
CALSCALE:GREGORIAN
BEGIN:VEVENT
UID:e117329fe7cf46e5b92663b3c68672c2
DTSTAMP:20260422T181004Z
SUMMARY:Lunch
DESCRIPTION:
URL:https://basel-am-rhein.rotary1980.ch/bs/agenda/show/166647
DTSTART;TZID=Europe/Zurich:20240625T121500
DTEND;TZID=Europe/Zurich:20240625T121500
LOCATION:Restaurant Safran Zunft\,  Gerbergasse 11\, 4001 Basel
CATEGORIES:Rotary
END:VEVENT
BEGIN:VTIMEZONE
TZID:Europe/Zurich
BEGIN:DAYLIGHT
DTSTART:20240625T121500
TZNAME:CEST
TZOFFSETTO:+0200
TZOFFSETFROM:+0200
END:DAYLIGHT
END:VTIMEZONE
END:VCALENDAR
